BEGIN:VCALENDAR
VERSION:2.0
PRODID:-//Fondazione Inarcassa//Event Calendar//IT
CALSCALE:GREGORIAN
METHOD:PUBLISH
BEGIN:VEVENT
UID:69e9358135b6f@inarcassa.it
DTSTAMP:20260422T225425Z
DTSTART;VALUE=DATE:20240511
DTEND;VALUE=DATE:20240511
SUMMARY:Seminario di aggiornamento professionale Inarcassa e Fondazione Inarcassa
LOCATION:Urban Center Siracusa via Nino Bixio 1\, Siracusa
URL:https://fondazioneinarcassa.it/it/node/4376
STATUS:CONFIRMED
END:VEVENT
END:VCALENDAR
