BEGIN:VCALENDAR
VERSION:2.0
PRODID:-//Fondazione Inarcassa//Event Calendar//IT
CALSCALE:GREGORIAN
METHOD:PUBLISH
BEGIN:VEVENT
UID:69e9398eda167@inarcassa.it
DTSTAMP:20260422T231142Z
DTSTART;VALUE=DATE:20240520
DTEND;VALUE=DATE:20240520
SUMMARY:Inarcassa e Fondazione Inarcassa incontrano gli iscritti
LOCATION:CINEMA ASTRA PIAZZALE A. VOLTA 3\, PARMA\, Parma
URL:https://fondazioneinarcassa.it/it/node/4369
STATUS:CONFIRMED
END:VEVENT
END:VCALENDAR
