BEGIN:VCALENDAR
VERSION:2.0
PRODID:-//Fondazione Inarcassa//Event Calendar//IT
CALSCALE:GREGORIAN
METHOD:PUBLISH
BEGIN:VEVENT
UID:69e935dedc9fd@inarcassa.it
DTSTAMP:20260422T225558Z
DTSTART;VALUE=DATE:20240531
DTEND;VALUE=DATE:20240531
SUMMARY:Seminario INARCASSA
LOCATION:Via Leonardo da Vinci 27 – Pasian di Prato - UD\, Udine
URL:https://fondazioneinarcassa.it/it/node/4365
STATUS:CONFIRMED
END:VEVENT
END:VCALENDAR
