BEGIN:VCALENDAR
VERSION:2.0
PRODID:-//Fondazione Inarcassa//Event Calendar//IT
CALSCALE:GREGORIAN
METHOD:PUBLISH
BEGIN:VEVENT
UID:69e93669c7620@inarcassa.it
DTSTAMP:20260422T225817Z
DTSTART;VALUE=DATE:20240408
DTEND;VALUE=DATE:20240408
SUMMARY: INARCASSA PER SCELTA O PER NECESSITA’
LOCATION:Casasanfilippo\, Agrigento
URL:https://fondazioneinarcassa.it/it/node/4346
STATUS:CONFIRMED
END:VEVENT
END:VCALENDAR
