BEGIN:VCALENDAR
VERSION:2.0
PRODID:-//Fondazione Inarcassa//Event Calendar//IT
CALSCALE:GREGORIAN
METHOD:PUBLISH
BEGIN:VEVENT
UID:69e935b50581b@inarcassa.it
DTSTAMP:20260422T225517Z
DTSTART;VALUE=DATE:20240409
DTEND;VALUE=DATE:20240409
SUMMARY:Inarcassa e Fondazione Inarcassa incontrano gli iscritti
LOCATION:CCIAA Sede di Como\, Salone Scacchi\, Via Parini 16\, Como
URL:https://fondazioneinarcassa.it/it/node/4328
STATUS:CONFIRMED
END:VEVENT
END:VCALENDAR
