BEGIN:VCALENDAR
VERSION:2.0
PRODID:-//Fondazione Inarcassa//Event Calendar//IT
CALSCALE:GREGORIAN
METHOD:PUBLISH
BEGIN:VEVENT
UID:69e934e593e27@inarcassa.it
DTSTAMP:20260422T225149Z
DTSTART;VALUE=DATE:20240229
DTEND;VALUE=DATE:20240229
SUMMARY:Inarcassa per scelta o per necessità
LOCATION:Lido degli scogli - Crotone\, Crotone
URL:https://fondazioneinarcassa.it/it/node/4280
STATUS:CONFIRMED
END:VEVENT
END:VCALENDAR
