BEGIN:VCALENDAR
VERSION:2.0
PRODID:-//Fondazione Inarcassa//Event Calendar//IT
CALSCALE:GREGORIAN
METHOD:PUBLISH
BEGIN:VEVENT
UID:69e93645ec49d@inarcassa.it
DTSTAMP:20260422T225741Z
DTSTART;VALUE=DATE:20240215
DTEND;VALUE=DATE:20240215
SUMMARY:Inarcassa per scelta o per necessità 
LOCATION:Palazzo dei Priori – Sala dei Notari – Piazza IV Novembre 1 – PERUGIA\, Perugia
URL:https://fondazioneinarcassa.it/it/node/4252
STATUS:CONFIRMED
END:VEVENT
END:VCALENDAR
